BEGIN:VCALENDAR
VERSION:2.0
PRODID:-//oper - ECPv6.6.3//NONSGML v1.0//EN
CALSCALE:GREGORIAN
METHOD:PUBLISH
X-ORIGINAL-URL:https://opernpo.com
X-WR-CALDESC:évènements pour oper
REFRESH-INTERVAL;VALUE=DURATION:PT1H
X-Robots-Tag:noindex
X-PUBLISHED-TTL:PT1H
BEGIN:VTIMEZONE
TZID:UTC
BEGIN:STANDARD
TZOFFSETFROM:+0000
TZOFFSETTO:+0000
TZNAME:UTC
DTSTART:20230101T000000
END:STANDARD
END:VTIMEZONE
BEGIN:VEVENT
DTSTART;TZID=UTC:20230527T160000
DTEND;TZID=UTC:20230527T173000
DTSTAMP:20260425T041726
CREATED:20230414T045159Z
LAST-MODIFIED:20230426T030741Z
UID:820-1685203200-1685208600@opernpo.com
SUMMARY:Webinar: Utilisation Productive des Énergies Renouvelables dans le  Monde Rural en Afrique
DESCRIPTION:La présentation sur l’utilisation productive des énergies renouvelables dans le monde rural en Afrique répond à un besoin de développement local réel. Lors de ce Webinar\, la situation énergétique mondiale sera présentée avant celle des énergies renouvelables. Le potentiel en énergies renouvelables (Solaire\, Éolienne\, hydroélectrique\, biomasse) sera montré. A la suite de cette mise au point\, la présentation ressortira le déficit énergétique de l’Afrique surtout subsaharienne et les gaps entre les zones géographiques. Les potentialités de développement des mondes ruraux (agricole\, élevage\, pêche) ne sont pas à démontrer. Par conséquent\, il est plus question de montrer comment développer des activités génératrices de revenu d’une part dans les zones rurales mais également comment améliorer la productivité. Cette amélioration de la productivité passe nécessairement par une modernisation des activités primaires\, une transformation des produits issus de ces activités et enfin un conditionnement en vue de la commercialisation des produits transformés. \nA l’issu de la présentation\, l’auditeur (le public) est sensibilisé voir conscientisé sur le secteur porteur de développement en lien avec les énergies renouvelables en Afrique. \n  \nPrésentateur: \nDr Thiam Mouhamadou. Enseignant-Chercheur\, École Polytechnique de  Thiès. Expert en efficacité énergétique et énergies renouvelables. Membre fondateur et inscrit au Réseau Africain des experts en efficacité énergétique (RA3E)\, section Sénégal. \nLieu et Heure: \nEn ligne de 4PM à 5PM30 (GMT)
URL:https://opernpo.com/event/webinar-utilisation-productive-des-energies-renouvelables-dans-le-monde-rural-en-afrique/
LOCATION:En ligne\, En ligne
CATEGORIES:Version française
ATTACH;FMTTYPE=image/jpeg:https://opernpo.com/wp-content/uploads/2023/04/ernergies-renouvelables.jpg
ORGANIZER;CN="OPER":MAILTO:info@opernpo.com
END:VEVENT
BEGIN:VEVENT
DTSTART;TZID=UTC:20230527T160000
DTEND;TZID=UTC:20230527T173000
DTSTAMP:20260425T041726
CREATED:20230414T050932Z
LAST-MODIFIED:20230426T030633Z
UID:823-1685203200-1685208600@opernpo.com
SUMMARY:Productive Use of Renewable Energies in Rural Africa
DESCRIPTION:The presentation on the productive use of renewable energies in rural Africa responds to a real local development need. During this Webinar\, the situation of the world energy will be presented before that of renewable energies. The potentiel in renewable energies (Solar\, Wind\, hydroelectric\, biomass) will be shown. Following this clarification\, the presentation will highlight the energy deficit of Africa\, especially sub-Saharan Africa\, and the gaps between geographical areas. There is a big potential development in the rural worlds (agricultural\, livestock\, fishing\, etc..). Therefore\, it is more a matter of how to develop an income-generating activity in rural areas and also how to improve productivity. This improvement in productivity necessarily involves modernizing primary activities\, processing the products resulted from these activities and finally packaging with a view to marketing the processed products. At the end of the presentation\, the public will learn the development sectors linked to renewable energies in Africa and how to take advantage of that. \nPresenter: \nDr Thiam Mouhamadou. Enseignant-Chercheur\, École Polytechnique de  Thiès. Expert en efficacité énergétique et énergies renouvelables. Membre fondateur et inscrit au Réseau Africain des experts en efficacité énergétique (RA3E)\, section Sénégal. \nWhere and when: \nOnline from 4PM to 5PM30 (GMT)
URL:https://opernpo.com/event/productive-use-of-renewable-energies-in-rural-africa/
LOCATION:Online\, Online
CATEGORIES:English version
ATTACH;FMTTYPE=image/jpeg:https://opernpo.com/wp-content/uploads/2023/04/ernergies-renouvelables.jpg
ORGANIZER;CN="OPER":MAILTO:info@opernpo.com
END:VEVENT
END:VCALENDAR