BEGIN:VCALENDAR
VERSION:2.0
PRODID:-//oper - ECPv6.6.3//NONSGML v1.0//EN
CALSCALE:GREGORIAN
METHOD:PUBLISH
X-ORIGINAL-URL:https://opernpo.com
X-WR-CALDESC:évènements pour oper
REFRESH-INTERVAL;VALUE=DURATION:PT1H
X-Robots-Tag:noindex
X-PUBLISHED-TTL:PT1H
BEGIN:VTIMEZONE
TZID:UTC
BEGIN:STANDARD
TZOFFSETFROM:+0000
TZOFFSETTO:+0000
TZNAME:UTC
DTSTART:20230101T000000
END:STANDARD
END:VTIMEZONE
BEGIN:VEVENT
DTSTART;TZID=UTC:20230812T160000
DTEND;TZID=UTC:20230812T173000
DTSTAMP:20260423T050407
CREATED:20230725T024636Z
LAST-MODIFIED:20230725T024823Z
UID:913-1691856000-1691861400@opernpo.com
SUMMARY:Webinar: Les défis de la Recherche Scientifique en Afrique noire Francophone
DESCRIPTION:La recherche scientifique et l’innovation sont deux facteurs importants du développement économique et social d’un pays ou d’une région. Elles sont la mesure objective de la créativité d’une société. Cette créativité est mesurée par le nombre de brevets qu’un pays dépose et du dynamisme scientifique des universités à travers les articles publiés\, les conférences et colloques participées et/ou organisées. \nEn 2022\, le classement des universités\, montre qu’aucune université africaine francophone ne se place parmi le top 1000 des universités mondiales alors que l’Afrique du Sud\, l’Égypte\, le Nigeria et l’Éthiopie s’y trouvent. \nQuelles sont les causes de la recherche scientifique moribonde en Afrique noire Francophone ? \nQuelles solutions possibles pour redresser la situation ? \nCes questions seront adressées par le Professeur N’dji dit Jacques DEMBELE lors de ce Séminaire. \n  \nPrésentateur: \nProf Dembélé est diplômé de l’Ecole Normale Supérieure du Mali et possède un Doctorat en Géologie du Quaternaire de la Faculté des Sciences de la terre de l’Université de Géosciences de Wuhan en République populaire de Chine. \nEnthousiaste de la recherche\, Prof Dembélé contribue énormément à l’avancement de la recherche scientifique à l’université de Bamako et souvent par ces propres moyens. \n  \nLieu et Heure: \nEn ligne de 4PM à 5PM30 (GMT) \n 
URL:https://opernpo.com/event/webinar-les-defis-de-la-recherche-scientifique-en-afrique-noire-francophone/
LOCATION:En ligne\, En ligne
CATEGORIES:English version,Version française
ATTACH;FMTTYPE=image/png:https://opernpo.com/wp-content/uploads/2023/07/cheikh-anta-africa.png
ORGANIZER;CN="OPER":MAILTO:info@opernpo.com
END:VEVENT
END:VCALENDAR