BEGIN:VCALENDAR
VERSION:2.0
PRODID:-//oper - ECPv6.6.3//NONSGML v1.0//EN
CALSCALE:GREGORIAN
METHOD:PUBLISH
X-WR-CALNAME:oper
X-ORIGINAL-URL:https://opernpo.com
X-WR-CALDESC:évènements pour oper
REFRESH-INTERVAL;VALUE=DURATION:PT1H
X-Robots-Tag:noindex
X-PUBLISHED-TTL:PT1H
BEGIN:VTIMEZONE
TZID:UTC
BEGIN:STANDARD
TZOFFSETFROM:+0000
TZOFFSETTO:+0000
TZNAME:UTC
DTSTART:20240101T000000
END:STANDARD
END:VTIMEZONE
BEGIN:VEVENT
DTSTART;TZID=UTC:20240224T160000
DTEND;TZID=UTC:20240224T180000
DTSTAMP:20260422T222101
CREATED:20220320T012451Z
LAST-MODIFIED:20240108T041111Z
UID:511-1708790400-1708797600@opernpo.com
SUMMARY:Webinar: CRISPR/Cas- Une technologie d'édition de gènes : un outil de biologie moléculaire simple et puissant qui révolutionne la recherche et la médecine
DESCRIPTION:CRISPR/Cas a la capacité d’effectuer des modifications spécifiques à des sites génomiques ciblés et est entrain de transformer la recherche en biologie et en médecine\, en raison de sa précision\, de sa facilité d’utilisation et de son coût relativement faible. Les nombreuses applications de CRISPR/Cas incluent l’inactivation de gènes\, le marquage de gènes\, la correction de défauts génétiques et l’activation de gènes. Dans ce webinar\, nous parlerons du fonctionnement de ce puissant outil de biologie moléculaire et de l’utilisation de la technologie CRISPR/Cas pour une édition efficace du génome dans un organisme. \nLes participants apprendront :\n– Le développent de la technique de CRISPR/Cas et les considérations relatives à la conception des composants du CRISPR/Cas\n– Comment faire l’édition de gènes avec CRISPR/Cas dans un micro-organisme de A à Z\n– L’impact actuel de la technique du CRISR/Cas en biologie et en médecine \nPrésentateur:\nJean Paul Ouédraogo\, PhD. Président de OPER.
URL:https://opernpo.com/event/webinar-crispr-cas-une-technologie-dedition-de-genes-un-outil-de-biologie-moleculaire-simple-et-puissant-qui-revolutionne-la-recherche-et-la-medecine/
LOCATION:En ligne\, En ligne
CATEGORIES:Version française
ORGANIZER;CN="OPER":MAILTO:info@opernpo.com
END:VEVENT
END:VCALENDAR